BEGIN:VCALENDAR
VERSION:2.0
PRODID:-//ಕನ್ನಡ ಸಂಘ ಸ್ಯಾಕ್ರಮೆಂಟೊ - ECPv5.14.0.4//NONSGML v1.0//EN
CALSCALE:GREGORIAN
METHOD:PUBLISH
X-WR-CALNAME:ಕನ್ನಡ ಸಂಘ ಸ್ಯಾಕ್ರಮೆಂಟೊ
X-ORIGINAL-URL:https://sackannadasangha.org
X-WR-CALDESC:Events for ಕನ್ನಡ ಸಂಘ ಸ್ಯಾಕ್ರಮೆಂಟೊ
REFRESH-INTERVAL;VALUE=DURATION:PT1H
X-Robots-Tag:noindex
X-PUBLISHED-TTL:PT1H
BEGIN:VTIMEZONE
TZID:UTC
BEGIN:STANDARD
TZOFFSETFROM:+0000
TZOFFSETTO:+0000
TZNAME:UTC
DTSTART:20220101T000000
END:STANDARD
END:VTIMEZONE
BEGIN:VEVENT
DTSTART;TZID=UTC:20220305T110000
DTEND;TZID=UTC:20220305T160000
DTSTAMP:20260425T073828
CREATED:20210801T040138Z
LAST-MODIFIED:20220305T055543Z
UID:357-1646478000-1646496000@sackannadasangha.org
SUMMARY:Bhakthi Lahari
DESCRIPTION:
URL:https://sackannadasangha.org/event/bhakti/
LOCATION:Laxmi Narayana Temple\, 7495 Elder Creek Rd\, Sacramento\, CA\, 95824\, United States
CATEGORIES:Events
END:VEVENT
END:VCALENDAR