BEGIN:VCALENDAR
VERSION:2.0
PRODID:-//ಕನ್ನಡ ಸಂಘ ಸ್ಯಾಕ್ರಮೆಂಟೊ - ECPv5.14.0.4//NONSGML v1.0//EN
CALSCALE:GREGORIAN
METHOD:PUBLISH
X-WR-CALNAME:ಕನ್ನಡ ಸಂಘ ಸ್ಯಾಕ್ರಮೆಂಟೊ
X-ORIGINAL-URL:https://sackannadasangha.org
X-WR-CALDESC:Events for ಕನ್ನಡ ಸಂಘ ಸ್ಯಾಕ್ರಮೆಂಟೊ
REFRESH-INTERVAL;VALUE=DURATION:PT1H
X-Robots-Tag:noindex
X-PUBLISHED-TTL:PT1H
BEGIN:VTIMEZONE
TZID:America/Los_Angeles
BEGIN:DAYLIGHT
TZOFFSETFROM:-0800
TZOFFSETTO:-0700
TZNAME:PDT
DTSTART:20240310T100000
END:DAYLIGHT
BEGIN:STANDARD
TZOFFSETFROM:-0700
TZOFFSETTO:-0800
TZNAME:PST
DTSTART:20241103T090000
END:STANDARD
BEGIN:DAYLIGHT
TZOFFSETFROM:-0800
TZOFFSETTO:-0700
TZNAME:PDT
DTSTART:20250309T100000
END:DAYLIGHT
BEGIN:STANDARD
TZOFFSETFROM:-0700
TZOFFSETTO:-0800
TZNAME:PST
DTSTART:20251102T090000
END:STANDARD
BEGIN:DAYLIGHT
TZOFFSETFROM:-0800
TZOFFSETTO:-0700
TZNAME:PDT
DTSTART:20260308T100000
END:DAYLIGHT
BEGIN:STANDARD
TZOFFSETFROM:-0700
TZOFFSETTO:-0800
TZNAME:PST
DTSTART:20261101T090000
END:STANDARD
END:VTIMEZONE
BEGIN:VEVENT
DTSTART;TZID=America/Los_Angeles:20240302T103000
DTEND;TZID=America/Los_Angeles:20240302T153000
DTSTAMP:20260425T034623
CREATED:20240217T170715Z
LAST-MODIFIED:20240217T170728Z
UID:1539-1709375400-1709393400@sackannadasangha.org
SUMMARY:Bhakti Lahari
DESCRIPTION:“Bhakti Lahari”\,a tribute to compositions of HariDasaru\,Sharanaru etc \n\n\n\n ‘ಭಕ್ತಿ ಲಹರಿ ’\, ಕರ್ನಾಟಕದ ದಾಸರು ಮತ್ತು ಶರಣರಂತಹ ಶ್ರೇಷ್ಠ ಶಾಸ್ತ್ರೀಯ ಸಂಗೀತ ಸಾಧಕರ ಗೌರವಾರ್ಪಣಾ ಕಾರ್ಯಕ್ರಮ
URL:https://sackannadasangha.org/event/bhakti-lahari-24/
LOCATION:Laxmi Narayana Temple\, 7495 Elder Creek Rd\, Sacramento\, CA\, 95824\, United States
CATEGORIES:Events
ATTACH;FMTTYPE=image/png:https://sackannadasangha.org/wp-content/uploads/2024/02/Screenshot-2024-02-17-090448.png
END:VEVENT
BEGIN:VEVENT
DTSTART;TZID=America/Los_Angeles:20240512T110000
DTEND;TZID=America/Los_Angeles:20240512T150000
DTSTAMP:20260425T034623
CREATED:20240418T045143Z
LAST-MODIFIED:20240418T045335Z
UID:1566-1715511600-1715526000@sackannadasangha.org
SUMMARY:Ranga Vasantha
DESCRIPTION:Showcasing cultural traditions of Karnataka
URL:https://sackannadasangha.org/event/1566/
LOCATION:Cordova High School\, 2239 Chase Dr\, Rancho Cordova\, California\, 95670\, United States
CATEGORIES:Events
END:VEVENT
BEGIN:VEVENT
DTSTART;TZID=America/Los_Angeles:20241123T130000
DTEND;TZID=America/Los_Angeles:20241123T190000
DTSTAMP:20260425T034623
CREATED:20241006T153002Z
LAST-MODIFIED:20241109T071748Z
UID:1622-1732366800-1732388400@sackannadasangha.org
SUMMARY:2024 Kannada Rajyotsava
DESCRIPTION:ನಮ್ಮ ರಾಜ್ಯದ ಶ್ರೀಮಂತ ಪರಂಪರೆ\, ಕನ್ನಡದ ಸೊಗಸು ಮತ್ತು ವೈಭವವನ್ನು ಪ್ರೀತಿಯಿಂದ ಆಚರಿಸಲು ಇದು ಸುವರ್ಣಾವಕಾಶ.  ನೀವು ಬಂದು ನಮ್ಮೊಂದಿಗೆ ಸೇರಿ ಈ ವೈಭವವನ್ನು ಒಂದಾಗಿ ಆಚರಿಸಿರಿ
URL:https://sackannadasangha.org/event/2024_rajyotsava/
LOCATION:Roseville High School\, 1 Tiger Way\, Roseville\, California\, 95747\, United States
CATEGORIES:Events
ATTACH;FMTTYPE=image/png:https://sackannadasangha.org/wp-content/uploads/2024/10/KSS-20th.png
END:VEVENT
BEGIN:VEVENT
DTSTART;TZID=America/Los_Angeles:20250118T170000
DTEND;TZID=America/Los_Angeles:20250118T210000
DTSTAMP:20260425T034623
CREATED:20250112T200624Z
LAST-MODIFIED:20250113T045828Z
UID:1693-1737219600-1737234000@sackannadasangha.org
SUMMARY:ಸಂಕ್ರಾಂತಿ ಸಂಭ್ರಮ
DESCRIPTION:ಎಳ್ಳು \, ಬೆಲ್ಲ ತಿನ್ನೋಣ \, ಒಳ್ಳೆ ಮಾತಾಡೋಣ
URL:https://sackannadasangha.org/event/sankranthi2025-2/
LOCATION:Chinmaya Mission  of Sacramento – Address: 3231 Ramos Cir\, Sacramento\, CA 95827
CATEGORIES:Events
ATTACH;FMTTYPE=image/png:https://sackannadasangha.org/wp-content/uploads/2025/01/Sankranthi2025.png
END:VEVENT
BEGIN:VEVENT
DTSTART;TZID=America/Los_Angeles:20250301T100000
DTEND;TZID=America/Los_Angeles:20250301T150000
DTSTAMP:20260425T034623
CREATED:20250124T031142Z
LAST-MODIFIED:20250124T032133Z
UID:1698-1740823200-1740841200@sackannadasangha.org
SUMMARY:ಭಕ್ತಿ ಲಹರಿ
DESCRIPTION:“Bhakti Lahari”\, a favorite program of classical music lovers.
URL:https://sackannadasangha.org/event/%e0%b2%ad%e0%b2%95%e0%b3%8d%e0%b2%a4%e0%b2%bf-%e0%b2%b2%e0%b2%b9%e0%b2%b0%e0%b2%bf/
LOCATION:Laxmi Narayana Temple\, 7495 Elder Creek Rd\, Sacramento\, CA\, 95824\, United States
CATEGORIES:Events
ATTACH;FMTTYPE=image/png:https://sackannadasangha.org/wp-content/uploads/2025/01/KSS-Bhakti-Lahari-2025.png
END:VEVENT
BEGIN:VEVENT
DTSTART;TZID=America/Los_Angeles:20250503T103000
DTEND;TZID=America/Los_Angeles:20250503T160000
DTSTAMP:20260425T034623
CREATED:20250310T035551Z
LAST-MODIFIED:20250404T164604Z
UID:1739-1746268200-1746288000@sackannadasangha.org
SUMMARY:2025 ರಂಗ ವಸಂತ( Ranga Vasantha)
DESCRIPTION:
URL:https://sackannadasangha.org/event/1739/
LOCATION:Sunrise Elementary School\, 11821 Cobble Brook Dr\, Rancho Cordova\, 95742\, United States
CATEGORIES:Events
END:VEVENT
BEGIN:VEVENT
DTSTART;TZID=America/Los_Angeles:20250601T110000
DTEND;TZID=America/Los_Angeles:20250601T160000
DTSTAMP:20260425T034623
CREATED:20250516T055719Z
LAST-MODIFIED:20250516T055834Z
UID:1799-1748775600-1748793600@sackannadasangha.org
SUMMARY:ML Boot camp
DESCRIPTION:June 8 @ 11:AM – 4:00 PM \n\n\n\nDay #1: June 1st 2025 – 11:00AM to 4:00PM – Granite Bay Library (https://g.co/kgs/KoXNQpT) \n\n\n\nDay #2: June 8th 2025 – 11:00AM to 4:00PM – Rocklin Library (https://g.co/kgs/GfcLC8f)
URL:https://sackannadasangha.org/event/ml-boot-camp/
LOCATION:CA
CATEGORIES:Events
END:VEVENT
BEGIN:VEVENT
DTSTART;TZID=America/Los_Angeles:20250906T100000
DTEND;TZID=America/Los_Angeles:20250907T120000
DTSTAMP:20260425T034623
CREATED:20250303T193150Z
LAST-MODIFIED:20250824T215937Z
UID:1735-1757152800-1757246400@sackannadasangha.org
SUMMARY:KSS Camping
DESCRIPTION:REGISTER NOW!! https://sackannadasangha.org/ksscamping/
URL:https://sackannadasangha.org/event/kss-camping/
LOCATION:Malakoff Diggins State Historic park\, 23579 North Bloomfield Road\, Nevada City\, California\, 95959\, United States
CATEGORIES:Events
END:VEVENT
BEGIN:VEVENT
DTSTART;TZID=America/Los_Angeles:20251101T140000
DTEND;TZID=America/Los_Angeles:20251101T210000
DTSTAMP:20260425T034623
CREATED:20250923T151053Z
LAST-MODIFIED:20250923T151054Z
UID:1830-1762005600-1762030800@sackannadasangha.org
SUMMARY:2025 Rajyotsava Celebrations
DESCRIPTION:1) Timings – 1:30 PM to 7:00 PM@ 1:30 PM Food Competition@ 2:00 PM Cultural Programs@ 7:00 PM onwards\, Dinner.
URL:https://sackannadasangha.org/event/1830/
LOCATION:Rosemont High School\, 9594 Kiefer Blvd\, Sacramento\, California\, 95827\, United States
CATEGORIES:Events
END:VEVENT
BEGIN:VEVENT
DTSTART;TZID=America/Los_Angeles:20260124T170000
DTEND;TZID=America/Los_Angeles:20260124T210000
DTSTAMP:20260425T034623
CREATED:20260111T033112Z
LAST-MODIFIED:20260111T033407Z
UID:2026-1769274000-1769288400@sackannadasangha.org
SUMMARY:ಸಂಕ್ರಾಂತಿ ಸಂಭ್ರಮ - Sankranthi Celebrations
DESCRIPTION:ಎಳ್ಳು \, ಬೆಲ್ಲ ತಿನ್ನೋಣ \, ಒಳ್ಳೆ ಮಾತಾಡೋಣ
URL:https://sackannadasangha.org/event/sankranthi-celebrations/
LOCATION:Chinmaya Mission  of Sacramento – Address: 3231 Ramos Cir\, Sacramento\, CA 95827
CATEGORIES:Events
END:VEVENT
BEGIN:VEVENT
DTSTART;TZID=America/Los_Angeles:20260307T100000
DTEND;TZID=America/Los_Angeles:20260307T150000
DTSTAMP:20260425T034623
CREATED:20260124T053755Z
LAST-MODIFIED:20260207T034654Z
UID:2032-1772877600-1772895600@sackannadasangha.org
SUMMARY:ಭಕ್ತಿ ಲಹರಿ
DESCRIPTION:ಭಕ್ತಿ ಲಹರಿಯನ್ನು ಮಾರ್ಚ್ 7 ರ ಶನಿವಾರ ಲಕ್ಷ್ಮಿ ನಾರಾಯಣ ಮಂದಿರದಲ್ಲಿ ಆಯೋಜಿಸಲಾಗಿದೆ. ದಯವಿಟ್ಟು ದಿನಾಂಕವನ್ನು ಉಳಿಸಿಕೊಂಡು ವಚನಗಳು\, ದಾಸರ ಪದಗಳು\, ಭಕ್ತಿಗೀತೆಗಳು ಇತ್ಯಾದಿಗಳ ಗಾಯನವನ್ನು ಆನಂದಿಸಲು ಬನ್ನಿ
URL:https://sackannadasangha.org/event/%e0%b2%ad%e0%b2%95%e0%b3%8d%e0%b2%a4%e0%b2%bf-%e0%b2%b2%e0%b2%b9%e0%b2%b0%e0%b2%bf-2/
LOCATION:Laxmi Narayana Temple\, 7495 Elder Creek Rd\, Sacramento\, CA\, 95824\, United States
CATEGORIES:Events
END:VEVENT
END:VCALENDAR