BEGIN:VCALENDAR
VERSION:2.0
PRODID:-//ಕನ್ನಡ ಸಂಘ ಸ್ಯಾಕ್ರಮೆಂಟೊ - ECPv5.14.0.4//NONSGML v1.0//EN
CALSCALE:GREGORIAN
METHOD:PUBLISH
X-WR-CALNAME:ಕನ್ನಡ ಸಂಘ ಸ್ಯಾಕ್ರಮೆಂಟೊ
X-ORIGINAL-URL:https://sackannadasangha.org
X-WR-CALDESC:Events for ಕನ್ನಡ ಸಂಘ ಸ್ಯಾಕ್ರಮೆಂಟೊ
REFRESH-INTERVAL;VALUE=DURATION:PT1H
X-Robots-Tag:noindex
X-PUBLISHED-TTL:PT1H
BEGIN:VTIMEZONE
TZID:America/Los_Angeles
BEGIN:DAYLIGHT
TZOFFSETFROM:-0800
TZOFFSETTO:-0700
TZNAME:PDT
DTSTART:20250309T100000
END:DAYLIGHT
BEGIN:STANDARD
TZOFFSETFROM:-0700
TZOFFSETTO:-0800
TZNAME:PST
DTSTART:20251102T090000
END:STANDARD
END:VTIMEZONE
BEGIN:VEVENT
DTSTART;TZID=America/Los_Angeles:20250906T100000
DTEND;TZID=America/Los_Angeles:20250907T120000
DTSTAMP:20260422T050109
CREATED:20250303T193150Z
LAST-MODIFIED:20250824T215937Z
UID:1735-1757152800-1757246400@sackannadasangha.org
SUMMARY:KSS Camping
DESCRIPTION:REGISTER NOW!! https://sackannadasangha.org/ksscamping/
URL:https://sackannadasangha.org/event/kss-camping/
LOCATION:Malakoff Diggins State Historic park\, 23579 North Bloomfield Road\, Nevada City\, California\, 95959\, United States
CATEGORIES:Events
END:VEVENT
END:VCALENDAR