BEGIN:VCALENDAR
VERSION:2.0
PRODID:-//ಕನ್ನಡ ಸಂಘ ಸ್ಯಾಕ್ರಮೆಂಟೊ - ECPv5.14.0.4//NONSGML v1.0//EN
CALSCALE:GREGORIAN
METHOD:PUBLISH
X-WR-CALNAME:ಕನ್ನಡ ಸಂಘ ಸ್ಯಾಕ್ರಮೆಂಟೊ
X-ORIGINAL-URL:https://sackannadasangha.org
X-WR-CALDESC:Events for ಕನ್ನಡ ಸಂಘ ಸ್ಯಾಕ್ರಮೆಂಟೊ
REFRESH-INTERVAL;VALUE=DURATION:PT1H
X-Robots-Tag:noindex
X-PUBLISHED-TTL:PT1H
BEGIN:VTIMEZONE
TZID:America/Los_Angeles
BEGIN:DAYLIGHT
TZOFFSETFROM:-0800
TZOFFSETTO:-0700
TZNAME:PDT
DTSTART:20250309T100000
END:DAYLIGHT
BEGIN:STANDARD
TZOFFSETFROM:-0700
TZOFFSETTO:-0800
TZNAME:PST
DTSTART:20251102T090000
END:STANDARD
END:VTIMEZONE
BEGIN:VEVENT
DTSTART;TZID=America/Los_Angeles:20250503T103000
DTEND;TZID=America/Los_Angeles:20250503T160000
DTSTAMP:20260423T030245
CREATED:20250310T035551Z
LAST-MODIFIED:20250404T164604Z
UID:1739-1746268200-1746288000@sackannadasangha.org
SUMMARY:2025 ರಂಗ ವಸಂತ( Ranga Vasantha)
DESCRIPTION:
URL:https://sackannadasangha.org/event/1739/
LOCATION:Sunrise Elementary School\, 11821 Cobble Brook Dr\, Rancho Cordova\, 95742\, United States
CATEGORIES:Events
END:VEVENT
END:VCALENDAR